BEGIN:VCALENDAR
VERSION:2.0
PRODID:-//ChamberMaster//Event Calendar 2.0//EN
METHOD:PUBLISH
X-PUBLISHED-TTL:P3D
REFRESH-INTERVAL:P3D
CALSCALE:GREGORIAN
BEGIN:VEVENT
DTSTART:20190819T130000Z
DTEND:20190821T220000Z
X-MICROSOFT-CDO-ALLDAYEVENT:FALSE
SUMMARY:Vapor Distribution 4.1 - Mankato
DESCRIPTION:Designing and Installing Exterior Vapor Distribution Systems (Book 4.1) focuses on designing and installing the exterior portions of a vapor distribution system for both residential and small commercial markets. This course addresses how to select and install containers\, prevent corrosion\, size and install regulators and meters\, and select and install outdoor piping and tubing.
X-ALT-DESC;FMTTYPE=text/html:<p><strong>Designing and Installing Exterior Vapor Distribution Systems (Book 4.1) </strong>focuses on designing and installing the exterior portions of a vapor distribution system for both residential and small commercial markets. This course addresses how to select and install containers\, prevent corrosion\, size and install regulators and meters\, and select and install outdoor piping and tubing.</p>\n
LOCATION:Country Inn and Suites\, 1900 Premier Dr\, Mankato\, MN 56001 507-388-8555
UID:e.9523.329
SEQUENCE:3
DTSTAMP:20260424T025415Z
URL:https://discoverpropanemn.com/events/details/vapor-distribution-4-1-mankato-329
END:VEVENT

END:VCALENDAR
