BEGIN:VCALENDAR
VERSION:2.0
PRODID:-//ChamberMaster//Event Calendar 2.0//EN
METHOD:PUBLISH
X-PUBLISHED-TTL:P3D
REFRESH-INTERVAL:P3D
CALSCALE:GREGORIAN
BEGIN:VEVENT
DTSTART:20200305T150000Z
DTEND:20200305T210000Z
X-MICROSOFT-CDO-ALLDAYEVENT:FALSE
SUMMARY:Spring Regional Information Meeting - Owatonna
DESCRIPTION:Spring Regional Meeting
X-ALT-DESC;FMTTYPE=text/html:<p style="margin-bottom:0pt\;">Spring Regional Meeting</p>\n
LOCATION:Holiday Inn\, 2365 NW 43rd St.\, Owatonna\, MN 55060 Phone: (507) 446-3107
UID:e.9523.359
SEQUENCE:3
DTSTAMP:20260421T184821Z
URL:https://discoverpropanemn.com/events/details/spring-regional-information-meeting-owatonna-03-19-2020-359
END:VEVENT

END:VCALENDAR
