BEGIN:VCALENDAR
VERSION:2.0
PRODID:-//ChamberMaster//Event Calendar 2.0//EN
METHOD:PUBLISH
X-PUBLISHED-TTL:P3D
REFRESH-INTERVAL:P3D
CALSCALE:GREGORIAN
BEGIN:VEVENT
DTSTART:20190816T130000Z
DTEND:20190816T220000Z
X-MICROSOFT-CDO-ALLDAYEVENT:FALSE
SUMMARY:Railcar Operations (Performing Railcar Product Transfers)
DESCRIPTION:3.6 Performing Railcar Product Transfers: Areas covered inlcude personal protective equipment\, railcar documentation\, condition and spotting procedures\, unloading systems and verifying odorant and security.
X-ALT-DESC;FMTTYPE=text/html:<p>3.6 Performing Railcar Product Transfers: Areas covered inlcude personal protective equipment\, railcar documentation\, condition and spotting procedures\, unloading systems and verifying odorant and security.<br />\n&nbsp\;</p>\n
LOCATION:Federated Coops\, 275 S Cleveland St\, Cambridge MN 55008
UID:e.9523.328
SEQUENCE:3
DTSTAMP:20260421T085137Z
URL:https://discoverpropanemn.com/events/details/railcar-operations-performing-railcar-product-transfers-328
END:VEVENT

END:VCALENDAR
